BEGIN:VCALENDAR
VERSION:2.0
PRODID:-//DKSB Stormarn - ECPv6.14.2//NONSGML v1.0//EN
CALSCALE:GREGORIAN
METHOD:PUBLISH
X-WR-CALNAME:DKSB Stormarn
X-ORIGINAL-URL:https://dksb-stormarn.de
X-WR-CALDESC:Veranstaltungen für DKSB Stormarn
REFRESH-INTERVAL;VALUE=DURATION:PT1H
X-Robots-Tag:noindex
X-PUBLISHED-TTL:PT1H
BEGIN:VTIMEZONE
TZID:Europe/Berlin
BEGIN:DAYLIGHT
TZOFFSETFROM:+0100
TZOFFSETTO:+0200
TZNAME:CEST
DTSTART:20260329T010000
END:DAYLIGHT
BEGIN:STANDARD
TZOFFSETFROM:+0200
TZOFFSETTO:+0100
TZNAME:CET
DTSTART:20261025T010000
END:STANDARD
END:VTIMEZONE
BEGIN:VEVENT
DTSTART;TZID=Europe/Berlin:20260617T090000
DTEND;TZID=Europe/Berlin:20260617T120000
DTSTAMP:20260422T171203
CREATED:20260218T103225Z
LAST-MODIFIED:20260218T103225Z
UID:6639-1781686800-1781697600@dksb-stormarn.de
SUMMARY:Kinder-Kleiderkammer in Bargteheide
DESCRIPTION:In unserer Kleiderkammer in Bargteheide hat sich viel gut erhaltene Kinderkleidung angesammelt. Es lohnt sich also\, einen Termin zu vereinbaren\, um sich ein paar gute Stücke für die Kids auszusuchen. \nTelefonische Anmeldung bitte unter 04532 – 5170.
URL:https://dksb-stormarn.de/event/kinder-kleiderkammer-in-bargteheide-74
LOCATION:Haus des Kinderschutzbundes\, Hamburger Straße 4\, Bargteheide\, 22941
END:VEVENT
BEGIN:VEVENT
DTSTART;TZID=Europe/Berlin:20260617T150000
DTEND;TZID=Europe/Berlin:20260617T170000
DTSTAMP:20260422T171203
CREATED:20260302T103346Z
LAST-MODIFIED:20260302T103346Z
UID:6701-1781708400-1781715600@dksb-stormarn.de
SUMMARY:Spiel & Spaß mit dem Spielmobil auf dem Spielplatz Dammansche Koppel in Bad Oldesloe
DESCRIPTION:Das Spielmobil bespielt wieder den Spielplatz Dammansche Koppel in Bad Oldesloe.\nZum Spielen gibt es wieder die verschiedensten Spielmöglichkeiten für kleinere & auch größere Kinder. Aber auch die Erwachsenen dürfen gerne mitspielen. Einfach vorbeikommen und viel Spaß haben.
URL:https://dksb-stormarn.de/event/spiel-spass-mit-dem-spielmobil-auf-dem-spielplatz-dammansche-koppel-in-bad-oldesloe-2
LOCATION:Bad Oldesloe\, Spielplatz Schanzenbarg
END:VEVENT
BEGIN:VEVENT
DTSTART;TZID=Europe/Berlin:20260617T150000
DTEND;TZID=Europe/Berlin:20260617T170000
DTSTAMP:20260422T171203
CREATED:20260311T093657Z
LAST-MODIFIED:20260311T093657Z
UID:6763-1781708400-1781715600@dksb-stormarn.de
SUMMARY:Der BonnieBus kommt nach Willinghusen/Barsbüttel
DESCRIPTION:Du benötigst Zuspruch\, ein offenes Ohr oder hast konkrete Anliegen und Fragen?\nIm Bonnie Bus erwartet dich ein anonymes\, unbürokratisches und kostenloses Gesprächs- und Beratungsangebot. Wir hören zu und helfen in Entscheidungs-\, Krisen- und Konfliktsituationen und helfen dir dabei\, neue Lösungswege zu finden. \nEine Anmeldung brauchst du nicht\, kommt einfach vorbei.
URL:https://dksb-stormarn.de/event/der-bonniebus-kommt-nach-willinghusen-barsbuettel-2
LOCATION:auf dem Parkplatz am Sportplatz 18\, am Sportplatz 18\, 22885 Willinghusen
END:VEVENT
BEGIN:VEVENT
DTSTART;TZID=Europe/Berlin:20260624T090000
DTEND;TZID=Europe/Berlin:20260624T120000
DTSTAMP:20260422T171203
CREATED:20260218T103418Z
LAST-MODIFIED:20260218T103418Z
UID:6641-1782291600-1782302400@dksb-stormarn.de
SUMMARY:Kinder-Kleiderkammer in Bargteheide
DESCRIPTION:In unserer Kleiderkammer in Bargteheide hat sich viel gut erhaltene Kinderkleidung angesammelt. Es lohnt sich also\, einen Termin zu vereinbaren\, um sich ein paar gute Stücke für die Kids auszusuchen. \nTelefonische Anmeldung bitte unter 04532 – 5170.
URL:https://dksb-stormarn.de/event/kinder-kleiderkammer-in-bargteheide-75
LOCATION:Haus des Kinderschutzbundes\, Hamburger Straße 4\, Bargteheide\, 22941
END:VEVENT
BEGIN:VEVENT
DTSTART;TZID=Europe/Berlin:20260624T150000
DTEND;TZID=Europe/Berlin:20260624T170000
DTSTAMP:20260422T171203
CREATED:20260302T103552Z
LAST-MODIFIED:20260302T103552Z
UID:6703-1782313200-1782320400@dksb-stormarn.de
SUMMARY:Spiel & Spaß mit dem Spielmobil auf dem Spielplatz Weidenkamp Bad Oldesloe
DESCRIPTION:Das Spielmobil bespielt wieder den Spielplatz Weidenkamp in Bad Oldesloe.\nZum Spielen gibt es wieder die verschiedensten Spielmöglichkeiten für kleinere & auch größere Kinder. Aber auch die Erwachsenen dürfen gerne mitspielen. Einfach vorbeikommen und viel Spaß haben.
URL:https://dksb-stormarn.de/event/spiel-spass-mit-dem-spielmobil-auf-dem-spielplatz-weidenkamp-bad-oldesloe
LOCATION:Spielplatz Weidenkamp Bad Oldesloe\, Weidenkamp\, 23843 Bad Oldesloe\, Deutschland
END:VEVENT
BEGIN:VEVENT
DTSTART;TZID=Europe/Berlin:20260626T100000
DTEND;TZID=Europe/Berlin:20260626T120000
DTSTAMP:20260422T171203
CREATED:20260312T092111Z
LAST-MODIFIED:20260312T092111Z
UID:6818-1782468000-1782475200@dksb-stormarn.de
SUMMARY:Der BonnieBus kommt nach Westerau
DESCRIPTION:Du benötigst Zuspruch\, ein offenes Ohr oder hast konkrete Anliegen und Fragen?\nIm BonnieBus erwartet dich ein anonymes\, unbürokratisches und kostenloses Gesprächs- und Beratungsangebot. Wir hören zu und helfen in Entscheidungs-\, Krisen- und Konfliktsituationen und helfen dir dabei\, neue Lösungswege zu finden. \nEine Anmeldung brauchst du nicht\, komm einfach vorbei.
URL:https://dksb-stormarn.de/event/der-bonniebus-kommt-nach-westerau-3
LOCATION:Auf dem Parkplatz vor dem Gemeinschaftshaus in der Schulstraße\, Westerau
END:VEVENT
BEGIN:VEVENT
DTSTART;TZID=Europe/Berlin:20260626T190000
DTEND;TZID=Europe/Berlin:20260626T203000
DTSTAMP:20260422T171203
CREATED:20260113T145530Z
LAST-MODIFIED:20260113T145530Z
UID:6581-1782500400-1782505800@dksb-stormarn.de
SUMMARY:Vätergesprächskreis in Bargteheide
DESCRIPTION:Das Thema des Abends lautet: „Zeit für geselligen Austausch – gemeinsames Grillen“. \nDas Treffen ist für alle Väter gedacht\, die auch nach einer Trennung eine gute Beziehung zu ihren Kindern pflegen möchten. Der Vätergesprächskreis ist offen für alle Väter – eine Anmeldung ist nicht erforderlich.
URL:https://dksb-stormarn.de/event/vaetergespraechskreis-in-bargteheide-20
LOCATION:Lindenstraße 4\, 22941 Bargteheide
END:VEVENT
BEGIN:VEVENT
DTSTART;TZID=Europe/Berlin:20260629T150000
DTEND;TZID=Europe/Berlin:20260629T170000
DTSTAMP:20260422T171203
CREATED:20260302T103812Z
LAST-MODIFIED:20260302T103812Z
UID:6705-1782745200-1782752400@dksb-stormarn.de
SUMMARY:Spiel & Spaß mit dem Spielmobil auf dem Spielplatz Eggerskoppel in Neuschönningstedt
DESCRIPTION:Das Spielmobil bespielt wieder den Spielplatz Eggerskoppel in Neuschönningstedt.\nZum Spielen gibt es wieder die verschiedensten Spielmöglichkeiten für kleinere & auch größere Kinder. Aber auch die Erwachsenen dürfen gerne mitspielen. Einfach vorbeikommen und viel Spaß haben.
URL:https://dksb-stormarn.de/event/spiel-spass-mit-dem-spielmobil-auf-dem-spielplatz-eggerskoppel-in-neuschoenningstedt-6
LOCATION:Spielplatz Eggerskoppel Neuschönningstedt\, Eggerskoppel\, 21465 Neuschönningstedt
END:VEVENT
BEGIN:VEVENT
DTSTART;TZID=Europe/Berlin:20260701T090000
DTEND;TZID=Europe/Berlin:20260701T120000
DTSTAMP:20260422T171203
CREATED:20260218T103531Z
LAST-MODIFIED:20260218T103531Z
UID:6643-1782896400-1782907200@dksb-stormarn.de
SUMMARY:Kinder-Kleiderkammer in Bargteheide
DESCRIPTION:In unserer Kleiderkammer in Bargteheide hat sich viel gut erhaltene Kinderkleidung angesammelt. Es lohnt sich also\, einen Termin zu vereinbaren\, um sich ein paar gute Stücke für die Kids auszusuchen. \nTelefonische Anmeldung bitte unter 04532 – 5170.
URL:https://dksb-stormarn.de/event/kinder-kleiderkammer-in-bargteheide-76
LOCATION:Haus des Kinderschutzbundes\, Hamburger Straße 4\, Bargteheide\, 22941
END:VEVENT
BEGIN:VEVENT
DTSTART;TZID=Europe/Berlin:20260701T150000
DTEND;TZID=Europe/Berlin:20260701T170000
DTSTAMP:20260422T171203
CREATED:20260302T104046Z
LAST-MODIFIED:20260302T104046Z
UID:6707-1782918000-1782925200@dksb-stormarn.de
SUMMARY:Spiel & Spaß mit dem Spielmobil auf dem Spielplatz Rethwischfeld in Bad Oldesloe
DESCRIPTION:Das Spielmobil bespielt wieder den Spielplatz Rethwischfeld in Bad Oldesloe.\nZum Spielen gibt es wieder die verschiedensten Spielmöglichkeiten für kleinere & auch größere Kinder. Aber auch die Erwachsenen dürfen gerne mitspielen. Einfach vorbeikommen und viel Spaß haben.
URL:https://dksb-stormarn.de/event/spiel-spass-mit-dem-spielmobil-auf-dem-spielplatz-rethwischfeld-in-bad-oldesloe-3
LOCATION:Spielplatz Rethwischfeld Bad Oldesloe\, Rethwischfeld\, Bad Oldesloe\, 23843\, Germany
END:VEVENT
BEGIN:VEVENT
DTSTART;TZID=Europe/Berlin:20260701T150000
DTEND;TZID=Europe/Berlin:20260701T170000
DTSTAMP:20260422T171203
CREATED:20260311T115340Z
LAST-MODIFIED:20260311T115340Z
UID:6792-1782918000-1782925200@dksb-stormarn.de
SUMMARY:Der BonnieBus kommt nach Hoisdorf
DESCRIPTION:Du benötigst Zuspruch\, ein offenes Ohr oder hast konkrete Anliegen und Fragen?\nIm BonnieBus erwartet dich ein anonymes\, unbürokratisches und kostenloses Gesprächs- und Beratungsangebot. Wir hören zu und helfen in Entscheidungs-\, Krisen- und Konfliktsituationen und helfen dir dabei\, neue Lösungswege zu finden. \nEine Anmeldung brauchst du nicht\, komm einfach vorbei.
URL:https://dksb-stormarn.de/event/der-bonniebus-kommt-nach-hoisdorf-4
LOCATION:Auf dem Parkpkatz am Sportplatz an der Oetjendorfer Landstraße\, Hoisdorf
END:VEVENT
BEGIN:VEVENT
DTSTART;TZID=Europe/Berlin:20260706T150000
DTEND;TZID=Europe/Berlin:20260706T170000
DTSTAMP:20260422T171203
CREATED:20260302T104305Z
LAST-MODIFIED:20260302T104305Z
UID:6709-1783350000-1783357200@dksb-stormarn.de
SUMMARY:Spiel & Spaß mit dem Spielmobil auf dem Spielplatz Husumerstraße/ Eichenbusch in Reinbek
DESCRIPTION:Das Spielmobil bespielt wieder den Spielplatz Husumerstraße\Eichenbusch in Reinbek.\nZum Spielen gibt es wieder die verschiedensten Spielmöglichkeiten für kleinere & auch größere Kinder. Aber auch die Erwachsenen dürfen gerne mitspielen. Einfach vorbeikommen und viel Spaß haben.
URL:https://dksb-stormarn.de/event/spiel-spass-mit-dem-spielmobil-auf-dem-spielplatz-husumerstrasse-eichenbusch-in-reinbek-8
LOCATION:Spielplatz Husumerstraße/Eichenbusch in Reinbek\, Husumerstraße/ Eichenbusch\, 21465 Reinbek
END:VEVENT
BEGIN:VEVENT
DTSTART;TZID=Europe/Berlin:20260708T150000
DTEND;TZID=Europe/Berlin:20260708T170000
DTSTAMP:20260422T171203
CREATED:20260302T104559Z
LAST-MODIFIED:20260302T104559Z
UID:6711-1783522800-1783530000@dksb-stormarn.de
SUMMARY:Sommerferienspaß mit dem Spielmobil auf dem Spielplatz Burg Steinfeld\, Steinfelder Redder in Bad Oldesloe
DESCRIPTION:Das Spielmobil bespielt wieder den Spielplatz Burg Steinfeld in Bad Oldesloe.\nZum Spielen gibt es wieder die verschiedensten Spielmöglichkeiten für kleinere & auch größere Kinder. Aber auch die Erwachsenen dürfen gerne mitspielen. Einfach vorbeikommen und viel Spaß haben.
URL:https://dksb-stormarn.de/event/sommerferienspass-mit-dem-spielmobil-auf-dem-spielplatz-burg-steinfeld-steinfelder-redder-in-bad-oldesloe
LOCATION:Spielplatz Burg Steinfeld\, Steinfelder Redder Bad Oldesloe\, Steinfelder Redder\, Bad Oldesloe\, 23843\, Deutschland
END:VEVENT
BEGIN:VEVENT
DTSTART;TZID=Europe/Berlin:20260708T150000
DTEND;TZID=Europe/Berlin:20260708T170000
DTSTAMP:20260422T171203
CREATED:20260312T091020Z
LAST-MODIFIED:20260312T091020Z
UID:6812-1783522800-1783530000@dksb-stormarn.de
SUMMARY:Der BonnieBus kommt nach Siek
DESCRIPTION:Du benötigst Zuspruch\, ein offenes Ohr oder hast konkrete Anliegen und Fragen?\nIm BonnieBus erwartet dich ein anonymes\, unbürokratisches und kostenloses Gesprächs- und Beratungsangebot. Wir hören zu und helfen in Entscheidungs-\, Krisen- und Konfliktsituationen und helfen dir dabei\, neue Lösungswege zu finden. \nEine Anmeldung brauchst du nicht\, komm einfach vorbei.
URL:https://dksb-stormarn.de/event/der-bonniebus-kommt-nach-siek-2
LOCATION:An dem Spielplatz am Dohm 1\, Siek
END:VEVENT
BEGIN:VEVENT
DTSTART;TZID=Europe/Berlin:20260710T100000
DTEND;TZID=Europe/Berlin:20260710T120000
DTSTAMP:20260422T171203
CREATED:20260311T124643Z
LAST-MODIFIED:20260319T124056Z
UID:6802-1783677600-1783684800@dksb-stormarn.de
SUMMARY:Der BonnieBus kommt mit der KleiderBox nach Stemwarde
DESCRIPTION:Du benötigst Zuspruch\, ein offenes Ohr oder hast konkrete Anliegen und Fragen?\nIm BonnieBus erwartet dich ein anonymes\, unbürokratisches und kostenloses Gesprächs- und Beratungsangebot. Wir hören zu und helfen in Entscheidungs-\, Krisen- und Konfliktsituationen und helfen dir dabei\, neue Lösungswege zu finden. \nIn unserer „KleiderBox on tour“ findest Du Second-Hand-Kleidung für Babys\, Kids und Teens. \nEine Anmeldung brauchst du nicht\, komm einfach vorbei.
URL:https://dksb-stormarn.de/event/der-bonniebus-kommt-nach-stemwarde-2
LOCATION:Auf dem Spielplatz am Bach\, Stemwarde\, 22885
END:VEVENT
BEGIN:VEVENT
DTSTART;TZID=Europe/Berlin:20260715T150000
DTEND;TZID=Europe/Berlin:20260715T170000
DTSTAMP:20260422T171203
CREATED:20260311T110732Z
LAST-MODIFIED:20260319T124154Z
UID:6778-1784127600-1784134800@dksb-stormarn.de
SUMMARY:Der BonnieBus kommt mit der KleiderBox nach Tangstedt
DESCRIPTION:Du benötigst Zuspruch\, ein offenes Ohr oder hast konkrete Anliegen und Fragen?\nIm BonnieBus erwartet dich ein anonymes\, unbürokratisches und kostenloses Gesprächs- und Beratungsangebot. Wir hören zu und helfen in Entscheidungs-\, Krisen- und Konfliktsituationen und helfen dir dabei\, neue Lösungswege zu finden. \nIn unserer „KleiderBox on tour“ findest Du Second-Hand-Kleidung für Babys\, Kids und Teens. \nEine Anmeldung brauchst du nicht\, komm einfach vorbei.
URL:https://dksb-stormarn.de/event/der-bonniebus-kommt-nach-tangstedt-6
LOCATION:Auf dem Parkplatz am Gemeindezentrum im Fahrenhorster Weg 2
END:VEVENT
BEGIN:VEVENT
DTSTART;TZID=Europe/Berlin:20260716T150000
DTEND;TZID=Europe/Berlin:20260716T170000
DTSTAMP:20260422T171203
CREATED:20260302T104912Z
LAST-MODIFIED:20260302T104912Z
UID:6713-1784214000-1784221200@dksb-stormarn.de
SUMMARY:Sommerferienspaß mit dem Spielmobil auf dem Spielplatz Wolkenweher Dorfstraße in Bad Oldesloe
DESCRIPTION:Das Spielmobil bespielt wieder den Spielplatz Wolkenweher Dorfstraße in Bad Oldesloe.\nZum Spielen gibt es wieder die verschiedensten Spielmöglichkeiten für kleinere & auch größere Kinder. Aber auch die Erwachsenen dürfen gerne mitspielen. Einfach vorbeikommen und viel Spaß haben.
URL:https://dksb-stormarn.de/event/sommerferienspass-mit-dem-spielmobil-auf-dem-spielplatz-wolkenweher-dorfstrasse-in-bad-oldesloe
LOCATION:Bad Oldesloe\, Spielplatz Schanzenbarg
END:VEVENT
BEGIN:VEVENT
DTSTART;TZID=Europe/Berlin:20260719T100000
DTEND;TZID=Europe/Berlin:20260719T120000
DTSTAMP:20260422T171203
CREATED:20260311T112553Z
LAST-MODIFIED:20260311T112553Z
UID:6785-1784455200-1784462400@dksb-stormarn.de
SUMMARY:Der BonnieBus kommt nach Neuschönningstedt/Reinbek
DESCRIPTION:Du benötigst Zuspruch\, ein offenes Ohr oder hast konkrete Anliegen und Fragen?\nIm BonnieBus erwartet dich ein anonymes\, unbürokratisches und kostenloses Gesprächs- und Beratungsangebot. Wir hören zu und helfen in Entscheidungs-\, Krisen- und Konfliktsituationen und helfen dir dabei\, neue Lösungswege zu finden. \nEine Anmeldung brauchst du nicht\, komm einfach vorbei.
URL:https://dksb-stormarn.de/event/der-bonniebus-kommt-nach-neuschoenningstedt-reinbek-2
LOCATION:Auf dem Parkplatz Querweg in Neuschönningstedt/Reinbek\, 21465 Neuschönningstedt
END:VEVENT
BEGIN:VEVENT
DTSTART;TZID=Europe/Berlin:20260722T150000
DTEND;TZID=Europe/Berlin:20260722T170000
DTSTAMP:20260422T171203
CREATED:20260302T105202Z
LAST-MODIFIED:20260302T105202Z
UID:6715-1784732400-1784739600@dksb-stormarn.de
SUMMARY:Sommerferienspaß mit dem Spielmobil auf der Kurparkwiese in Bad Oldesloe
DESCRIPTION:Das Spielmobil bespielt die Kurparkwiese in Bad Oldesloe.\nZum Spielen gibt es wieder die verschiedensten Spielmöglichkeiten für kleinere & auch größere Kinder. Aber auch die Erwachsenen dürfen gerne mitspielen. Einfach vorbeikommen und viel Spaß haben.
URL:https://dksb-stormarn.de/event/sommerferienspass-mit-dem-spielmobil-auf-der-kurparkwiese-in-bad-oldesloe
LOCATION:Bad Oldesloe\, Spielplatz Schanzenbarg
END:VEVENT
BEGIN:VEVENT
DTSTART;TZID=Europe/Berlin:20260722T150000
DTEND;TZID=Europe/Berlin:20260722T170000
DTSTAMP:20260422T171203
CREATED:20260311T104309Z
LAST-MODIFIED:20260311T104309Z
UID:6769-1784732400-1784739600@dksb-stormarn.de
SUMMARY:Der BonnieBus kommt nach Zarpen
DESCRIPTION:Du benötigst Zuspruch\, ein offenes Ohr oder hast konkrete Anliegen und Fragen?\nIm BonnieBus erwartet dich ein anonymes\, unbürokratisches und kostenloses Gesprächs- und Beratungsangebot. Wir hören zu und helfen in Entscheidungs-\, Krisen- und Konfliktsituationen und helfen dir dabei\, neue Lösungswege zu finden. \nEine Anmeldung brauchst du nicht\, komm einfach vorbei.
URL:https://dksb-stormarn.de/event/der-bonniebus-kommt-nach-zarpen-5
LOCATION:Auf dem Markplatz in der Hauptstraße 58
END:VEVENT
BEGIN:VEVENT
DTSTART;TZID=Europe/Berlin:20260727T150000
DTEND;TZID=Europe/Berlin:20260928T170000
DTSTAMP:20260422T171203
CREATED:20260302T105537Z
LAST-MODIFIED:20260302T105537Z
UID:6717-1785164400-1790614800@dksb-stormarn.de
SUMMARY:Sommerferienspaß mit dem Spielmobil auf dem Spielplatz Eggerskoppel in Neuschönningstedt
DESCRIPTION:Das Spielmobil bespielt wieder den Spielplatz Eggerskoppel in Neuschönningstedt.\nZum Spielen gibt es wieder die verschiedensten Spielmöglichkeiten für kleinere & auch größere Kinder. Aber auch die Erwachsenen dürfen gerne mitspielen. Einfach vorbeikommen und viel Spaß haben.
URL:https://dksb-stormarn.de/event/sommerferienspass-mit-dem-spielmobil-auf-dem-spielplatz-eggerskoppel-in-neuschoenningstedt
LOCATION:Spielplatz Eggerskoppel Neuschönningstedt\, Eggerskoppel\, 21465 Neuschönningstedt
END:VEVENT
BEGIN:VEVENT
DTSTART;TZID=Europe/Berlin:20260803T150000
DTEND;TZID=Europe/Berlin:20260803T170000
DTSTAMP:20260422T171203
CREATED:20260302T105744Z
LAST-MODIFIED:20260302T105827Z
UID:6719-1785769200-1785776400@dksb-stormarn.de
SUMMARY:Sommerferienspaß mit dem Spielmobil auf dem Spielplatz Husmerstraße/Eichenbusch in Reinbek
DESCRIPTION:Das Spielmobil bespielt wieder den Spielplatz Husumerstraße\Eichenbusch in Reinbek.\nZum Spielen gibt es wieder die verschiedensten Spielmöglichkeiten für kleinere & auch größere Kinder. Aber auch die Erwachsenen dürfen gerne mitspielen. Einfach vorbeikommen und viel Spaß haben.
URL:https://dksb-stormarn.de/event/spiel-spass-mit-dem-spielmobil-auf-dem-spielplatz-husmerstrasse-eichenbusch-in-reinbek
LOCATION:Spielplatz Husumerstraße/Eichenbusch in Reinbek\, Husumerstraße/ Eichenbusch\, 21465 Reinbek
END:VEVENT
BEGIN:VEVENT
DTSTART;TZID=Europe/Berlin:20260805T150000
DTEND;TZID=Europe/Berlin:20260805T170000
DTSTAMP:20260422T171203
CREATED:20260302T110111Z
LAST-MODIFIED:20260303T093244Z
UID:6722-1785942000-1785949200@dksb-stormarn.de
SUMMARY:Sommerferienspaß mit dem Spielmobil auf dem Spielplatz Möhlenbeckerweg in Bad Oldesloe
DESCRIPTION:Das Spielmobil bespielt wieder den Spielplatz Möhlenbeckerweg in Bad Oldesloe.\nZum Spielen gibt es wieder die verschiedensten Spielmöglichkeiten für kleinere & auch größere Kinder. Aber auch die Erwachsenen dürfen gerne mitspielen. Einfach vorbeikommen und viel Spaß haben.
URL:https://dksb-stormarn.de/event/sommerferinspass-mit-dem-spielmobil-auf-dem-spielplatz-moehlenbeckerweg-in-bad-oldesloe
LOCATION:Spielplatz Möhlenbeckerweg Bad Oldesloe\, Möhlenbeckerweg\, Bad Oldesloe\, 23843\, Deutschland
END:VEVENT
BEGIN:VEVENT
DTSTART;TZID=Europe/Berlin:20260819T150000
DTEND;TZID=Europe/Berlin:20260819T170000
DTSTAMP:20260422T171203
CREATED:20260302T110400Z
LAST-MODIFIED:20260302T110400Z
UID:6724-1787151600-1787158800@dksb-stormarn.de
SUMMARY:Spiel & Spaß mit dem Spielmobil auf dem Spielplatz im Kurpark in Bad Oldesloe
DESCRIPTION:Das Spielmobil bespielt wieder den Spielplatz im Kurpark in Bad Oldesloe.\nZum Spielen gibt es wieder die verschiedensten Spielmöglichkeiten für kleinere & auch größere Kinder. Aber auch die Erwachsenen dürfen gerne mitspielen. Einfach vorbeikommen und viel Spaß haben.
URL:https://dksb-stormarn.de/event/spiel-spass-mit-dem-spielmobil-auf-dem-spielplatz-im-kurpark-in-bad-oldesloe-3
LOCATION:Spielplatz im Kurpark Bad Oldesloe\, im Kurpark\, Bad Oldesloe\, 23843\, Deutschland
END:VEVENT
BEGIN:VEVENT
DTSTART;TZID=Europe/Berlin:20260826T150000
DTEND;TZID=Europe/Berlin:20260826T170000
DTSTAMP:20260422T171203
CREATED:20260302T110648Z
LAST-MODIFIED:20260302T110648Z
UID:6726-1787756400-1787763600@dksb-stormarn.de
SUMMARY:Spiel & Spaß mit dem Spielmobil auf dem Spielplatz Möhlenbeckerweg In Bad Oldesloe
DESCRIPTION:Das Spielmobil bespielt wieder den Spielplatz Möhlenbeckerweg in Bad Oldesloe.\nZum Spielen gibt es wieder die verschiedensten Spielmöglichkeiten für kleinere & auch größere Kinder. Aber auch die Erwachsenen dürfen gerne mitspielen. Einfach vorbeikommen und viel Spaß haben.
URL:https://dksb-stormarn.de/event/spiel-spass-mit-dem-spielmobil-auf-dem-spielplatz-moehlenbeckerweg-in-bad-oldesloe-3
LOCATION:Spielplatz Möhlenbeckerweg Bad Oldesloe\, Möhlenbeckerweg\, Bad Oldesloe\, 23843\, Deutschland
END:VEVENT
BEGIN:VEVENT
DTSTART;TZID=Europe/Berlin:20260831T150000
DTEND;TZID=Europe/Berlin:20260831T170000
DTSTAMP:20260422T171203
CREATED:20260302T111010Z
LAST-MODIFIED:20260302T111010Z
UID:6728-1788188400-1788195600@dksb-stormarn.de
SUMMARY:Spiel & Spaß mit dem Spielmobil auf dem Spielplatz Eggerskoppel In Neuschönningstedt
DESCRIPTION:Das Spielmobil bespielt wieder den Spielplatz Eggerskoppel in Neuschönningstedt.\nZum Spielen gibt es wieder die verschiedensten Spielmöglichkeiten für kleinere & auch größere Kinder. Aber auch die Erwachsenen dürfen gerne mitspielen. Einfach vorbeikommen und viel Spaß haben.
URL:https://dksb-stormarn.de/event/spiel-spass-mit-dem-spielmobil-auf-dem-spielplatz-eggerskoppel-in-neuschoenningstedt-7
LOCATION:Spielplatz Eggerskoppel Neuschönningstedt\, Eggerskoppel\, 21465 Neuschönningstedt
END:VEVENT
BEGIN:VEVENT
DTSTART;TZID=Europe/Berlin:20260902T150000
DTEND;TZID=Europe/Berlin:20260902T170000
DTSTAMP:20260422T171203
CREATED:20260302T111623Z
LAST-MODIFIED:20260302T111725Z
UID:6730-1788361200-1788368400@dksb-stormarn.de
SUMMARY:Spiel & Spaß mit dem Spielmobil auf dem Spielplatz Dammansche Koppel in Bad Oldesloe
DESCRIPTION:Das Spielmobil bespielt wieder den Spielplatz Dammansche Koppel in Bad Oldesloe.\nZum Spielen gibt es wieder die verschiedensten Spielmöglichkeiten für kleinere & auch größere Kinder. Aber auch die Erwachsenen dürfen gerne mitspielen. Einfach vorbeikommen und viel Spaß haben.
URL:https://dksb-stormarn.de/event/spiel-spass-mit-dem-spielmobil-auf-dem-spielplatz-dammansche-koppel-in-bad-oldesloe-3
LOCATION:Bad Oldesloe\, Spielplatz Schanzenbarg
END:VEVENT
BEGIN:VEVENT
DTSTART;TZID=Europe/Berlin:20260907T150000
DTEND;TZID=Europe/Berlin:20260907T170000
DTSTAMP:20260422T171203
CREATED:20260303T091150Z
LAST-MODIFIED:20260303T091150Z
UID:6735-1788793200-1788800400@dksb-stormarn.de
SUMMARY:Spiel & Spaß mit dem Spielmobil auf dem Spielplatz Husumertstraße/ Eichenbusch in Reinbek
DESCRIPTION:Das Spielmobil bespielt wieder den Spielplatz Husumerstraße/ Eichenbusch in Reinbek.\nZum Spielen gibt es wieder die verschiedensten Spielmöglichkeiten für kleinere & auch größere Kinder. Aber auch die Erwachsenen dürfen gerne mitspielen. Einfach vorbeikommen und viel Spaß haben.
URL:https://dksb-stormarn.de/event/spiel-spass-mit-dem-spielmobil-auf-dem-spielplatz-husumertstrasse-eichenbusch-in-reinbek
LOCATION:Spielplatz Husumerstraße/Eichenbusch in Reinbek\, Husumerstraße/ Eichenbusch\, 21465 Reinbek
END:VEVENT
BEGIN:VEVENT
DTSTART;TZID=Europe/Berlin:20260909T150000
DTEND;TZID=Europe/Berlin:20260909T170000
DTSTAMP:20260422T171203
CREATED:20260303T091420Z
LAST-MODIFIED:20260303T091420Z
UID:6737-1788966000-1788973200@dksb-stormarn.de
SUMMARY:Spiel & Spaß mit dem Spielmobil auf dem Spielplatz Weidenkamp in Bad Oldesloe
DESCRIPTION:Das Spielmobil bespielt wieder den Spielplatz Weidenkamp in Bad Oldesloe.\nZum Spielen gibt es wieder die verschiedensten Spielmöglichkeiten für kleinere & auch größere Kinder. Aber auch die Erwachsenen dürfen gerne mitspielen. Einfach vorbeikommen und viel Spaß haben.
URL:https://dksb-stormarn.de/event/spiel-spass-mit-dem-spielmobil-auf-dem-spielplatz-weidenkamp-in-bad-oldesloe-16
LOCATION:Spielplatz Weidenkamp Bad Oldesloe\, Weidenkamp\, 23843 Bad Oldesloe\, Deutschland
END:VEVENT
BEGIN:VEVENT
DTSTART;TZID=Europe/Berlin:20260916T150000
DTEND;TZID=Europe/Berlin:20260916T170000
DTSTAMP:20260422T171203
CREATED:20260303T091634Z
LAST-MODIFIED:20260303T091634Z
UID:6739-1789570800-1789578000@dksb-stormarn.de
SUMMARY:Spiel & Spaß mit dem Spielmobil auf dem Spielplatz Rethwischfeld in Bad Oldesloe
DESCRIPTION:Das Spielmobil bespielt wieder den Spielplatz Rethwischfeld in Bad Oldesloe.\nZum Spielen gibt es wieder die verschiedensten Spielmöglichkeiten für kleinere & auch größere Kinder. Aber auch die Erwachsenen dürfen gerne mitspielen. Einfach vorbeikommen und viel Spaß haben.
URL:https://dksb-stormarn.de/event/spiel-spass-mit-dem-spielmobil-auf-dem-spielplatz-rethwischfeld-in-bad-oldesloe-4
LOCATION:Spielplatz Rethwischfeld Bad Oldesloe\, Rethwischfeld\, Bad Oldesloe\, 23843\, Germany
END:VEVENT
END:VCALENDAR