BEGIN:VCALENDAR
VERSION:2.0
PRODID:-//DKSB Stormarn - ECPv6.14.2//NONSGML v1.0//EN
CALSCALE:GREGORIAN
METHOD:PUBLISH
X-WR-CALNAME:DKSB Stormarn
X-ORIGINAL-URL:https://dksb-stormarn.de
X-WR-CALDESC:Veranstaltungen für DKSB Stormarn
REFRESH-INTERVAL;VALUE=DURATION:PT1H
X-Robots-Tag:noindex
X-PUBLISHED-TTL:PT1H
BEGIN:VTIMEZONE
TZID:Europe/Berlin
BEGIN:DAYLIGHT
TZOFFSETFROM:+0100
TZOFFSETTO:+0200
TZNAME:CEST
DTSTART:20260329T010000
END:DAYLIGHT
BEGIN:STANDARD
TZOFFSETFROM:+0200
TZOFFSETTO:+0100
TZNAME:CET
DTSTART:20261025T010000
END:STANDARD
END:VTIMEZONE
BEGIN:VEVENT
DTSTART;TZID=Europe/Berlin:20260422T090000
DTEND;TZID=Europe/Berlin:20260422T120000
DTSTAMP:20260422T205515
CREATED:20260218T100651Z
LAST-MODIFIED:20260218T100651Z
UID:6623-1776848400-1776859200@dksb-stormarn.de
SUMMARY:Kinder-Kleiderkammer in Bargteheide
DESCRIPTION:In unserer Kleiderkammer in Bargteheide hat sich viel gut erhaltene Kinderkleidung angesammelt. Es lohnt sich also\, einen Termin zu vereinbaren\, um sich ein paar gute Stücke für die Kids auszusuchen. \nTelefonische Anmeldung bitte unter 04532 – 5170.
URL:https://dksb-stormarn.de/event/kinder-kleiderkammer-in-bargteheide-66
LOCATION:Haus des Kinderschutzbundes\, Hamburger Straße 4\, Bargteheide\, 22941
END:VEVENT
BEGIN:VEVENT
DTSTART;TZID=Europe/Berlin:20260422T150000
DTEND;TZID=Europe/Berlin:20260422T170000
DTSTAMP:20260422T205515
CREATED:20260302T095945Z
LAST-MODIFIED:20260302T095945Z
UID:6676-1776870000-1776877200@dksb-stormarn.de
SUMMARY:Spiel & Spaß mit dem Spielmobil auf dem Spielplatz Rethwischfeld in Bad Oldesloe
DESCRIPTION:Das Spielmobil bespielt den Spielplatz Rethwischfeld in Bad Oldesloe.\nZum Spielen gibt es wieder die verschiedensten Spielmöglichkeiten für kleinere & auch größere Kinder. Aber auch die Erwachsenen dürfen gerne mitspielen. Einfach vorbeikommen und viel Spaß haben.
URL:https://dksb-stormarn.de/event/spiel-spass-mit-dem-spielmobil-auf-dem-spielplatz-rethwischfeld-in-bad-oldesloe
LOCATION:Spielplatz Rethwischfeld Bad Oldesloe\, Rethwischfeld\, Bad Oldesloe\, 23843\, Germany
END:VEVENT
BEGIN:VEVENT
DTSTART;TZID=Europe/Berlin:20260422T150000
DTEND;TZID=Europe/Berlin:20260422T170000
DTSTAMP:20260422T205515
CREATED:20260311T122539Z
LAST-MODIFIED:20260311T122714Z
UID:6794-1776870000-1776877200@dksb-stormarn.de
SUMMARY:Der BonnieBus kommt nach Hammoor
DESCRIPTION:Du benötigst Zuspruch\, ein offenes Ohr oder hast konkrete Anliegen und Fragen?\nIm BonnieBus erwartet dich ein anonymes\, unbürokratisches und kostenloses Gesprächs- und Beratungsangebot. Wir hören zu und helfen in Entscheidungs-\, Krisen- und Konfliktsituationen und helfen dir dabei\, neue Lösungswege zu finden. \nEine Anmeldung brauchst du nicht\, komm einfach vorbei.
URL:https://dksb-stormarn.de/event/der-bonniebus-kommt-anch-hammoor
LOCATION:Am Spielplatz Wiesengrund\, Hammoor
END:VEVENT
END:VCALENDAR